BEGIN:VCALENDAR
VERSION:2.0
PRODID:-//สำนักงานกิจการนักศึกษาและศิษย์เก่าสัมพันธ์ - Office of Student Development and Alumni - (OSDA - KMITL) - ECPv6.15.12.2//NONSGML v1.0//EN
CALSCALE:GREGORIAN
METHOD:PUBLISH
X-ORIGINAL-URL:https://osda.kmitl.ac.th
X-WR-CALDESC:Events for สำนักงานกิจการนักศึกษาและศิษย์เก่าสัมพันธ์ - Office of Student Development and Alumni - (OSDA - KMITL)
REFRESH-INTERVAL;VALUE=DURATION:PT1H
X-Robots-Tag:noindex
X-PUBLISHED-TTL:PT1H
BEGIN:VTIMEZONE
TZID:Asia/Krasnoyarsk
BEGIN:STANDARD
TZOFFSETFROM:+0700
TZOFFSETTO:+0700
TZNAME:+07
DTSTART:20230101T000000
END:STANDARD
END:VTIMEZONE
BEGIN:VEVENT
DTSTART;TZID=Asia/Krasnoyarsk:20240715T000000
DTEND;TZID=Asia/Krasnoyarsk:20240802T235900
DTSTAMP:20260420T104906
CREATED:20240718T021526Z
LAST-MODIFIED:20240718T024206Z
UID:3015-1721001600-1722643140@osda.kmitl.ac.th
SUMMARY:สมัครทุนการศึกษาสำหรับนักศึกษาชั้นปีที่ 1 ที่ขาดแคลนทุนทรัพย์
DESCRIPTION:ครั้งแรก  กับทุนการศึกษา สำหรับนักศึกษาชั้นปี 1 (รหัส 67) ทุนช่วยเหลือนักศึกษาที่ขาดแคลนทุนทรัพย์ รับสมัคร​ทุน ตั้งแต่ 19 กรกฎาคม -2 สิงหาคม 2567  ทุนการศึกษาละ 10\,000 บาท รายละเอียด​ตามแนบค่ะสมัคร​ตามlink และติดตามรายละเอียดเพิ่มเติม  \nhttps://scholarship.kmitl.ac.th/ \n เอกสารที่ต้องแนบพร้อมใบสมัคร เตรียมไว้ได้เลยยย1. หนังสือรับรองรายได้ผู้ปกครอง+สำเนาบัตร \nดาวน์โหลดที่นี่ \n2. สำเนาบัตรประชาชน3. สำเนาหน้าสมุดบัญชีธนาคารและสำเนาหน้าอัพเดทบัญชีล่าสุดไม่เกิน 3 เดือน\nต้องใช้หน้าสมุดบัญชี ประเภทออมทรัพย์ของธนาคารในเขตกรุงเทพหรือปริมณฑล\nได้แก่ \nธ.กรุงศรีอยุธยา    (มีสมุดบัญชีอิเล็กทรอนิกส์)\n ธ.กรุงไทย  (มีสมุดบัญชีอิเล็กทรอนิกส์)\nธ.ไทยพาณิชย์ (ไม่มีสมุดบัญชีอิเล็กทรอนิกส์)\n ธ.กสิกรไทย (มีสมุดบัญชีอิเล็กทรอกนิกส์เฉพาะบัญชีที่เปิดแบบดิจิทัล)\n                            เท่านั้น หากไม่มีหน้าสมุดบัญชี สามารถใช้ สมุดบัญชีอิเล็กทรอนิกส์หน้าแอปของธนาคารที่มี ชื่อ เลขที่บัญชี และ ชื่อธนาคารชัดเจนได้ \n#ทุนสจล. #DEK67 #KMITL67#OSDA_KMITL #KMITL #สจล #ลุยไปด้วยกัน #FightTogether #KMITL2024 #DigitalUniversity #TheWorldMasterOfInnovation
URL:https://osda.kmitl.ac.th/event/2024freshyscholarship/
LOCATION:สำนักงานกิจการนักศึกษาและศิษย์เก่าสัมพันธ์\, สำนักงานกิจการนักศึกษาและศิษย์เก่าสัมพันธ์ ชั้น 4 อาคารสำนักงานอธิการบดี\, กรุงเทพมหานคร\, 10520\, Thailand
CATEGORIES:ทุนการศึกษา
ATTACH;FMTTYPE=image/jpeg:https://osda.kmitl.ac.th/wp-content/uploads/2024/07/2024-Freshhy-Scholarship.jpg
END:VEVENT
END:VCALENDAR