BEGIN:VCALENDAR
VERSION:2.0
PRODID:-//สำนักงานกิจการนักศึกษาและศิษย์เก่าสัมพันธ์ - Office of Student Development and Alumni - (OSDA - KMITL) - ECPv6.15.12.2//NONSGML v1.0//EN
CALSCALE:GREGORIAN
METHOD:PUBLISH
X-WR-CALNAME:สำนักงานกิจการนักศึกษาและศิษย์เก่าสัมพันธ์ - Office of Student Development and Alumni - (OSDA - KMITL)
X-ORIGINAL-URL:https://osda.kmitl.ac.th
X-WR-CALDESC:Events for สำนักงานกิจการนักศึกษาและศิษย์เก่าสัมพันธ์ - Office of Student Development and Alumni - (OSDA - KMITL)
REFRESH-INTERVAL;VALUE=DURATION:PT1H
X-Robots-Tag:noindex
X-PUBLISHED-TTL:PT1H
BEGIN:VTIMEZONE
TZID:Asia/Krasnoyarsk
BEGIN:STANDARD
TZOFFSETFROM:+0700
TZOFFSETTO:+0700
TZNAME:+07
DTSTART:20230101T000000
END:STANDARD
END:VTIMEZONE
BEGIN:VEVENT
DTSTART;TZID=Asia/Krasnoyarsk:20241024T080000
DTEND;TZID=Asia/Krasnoyarsk:20241031T170000
DTSTAMP:20260420T142508
CREATED:20241024T021821Z
LAST-MODIFIED:20241024T021825Z
UID:3291-1729756800-1730394000@osda.kmitl.ac.th
SUMMARY:ขยายเวลา เปิดรับสมัครทุนการศึกษา “HONDA” ถึง 31 ตุลาคม 2567
DESCRIPTION:ขยายเวลา เปิดรับสมัครทุนการศึกษา “HONDA”\n\n\nตั้งแต่บัดนี้ – 31 ตุลาคม 2567\n\n\n\nผ่านระบบทุนการศึกษาออนไลน์ https://scholarship.kmitl.ac.th/ \n\nจำนวนทุน 10 ทุน\n\n\nทุนละ 32\,000 บาท โดยจ่ายภาคการศึกษาละ 16\,000 บาท\n\n\nคุณสมบัติดังนี้\n1. มีสัญชาติไทย\n2. เป็นนักศึกษาปริญญาตรีชั้นปีที่ 2 และ 3 เท่านั้น\n3. เป็นนักศึกษาที่ศึกษาอยู่ใน\n– คณะวิศวกรรมศาสตร์ สาขาวิชาวิศวกรรมเครื่องกล วิศวกรรมไฟฟ้า วิศวกรรมอุตสาหการวิศวกรรมคอมพิวเตอร์ วิศวกรรมสารสนเทศ วิศวกรรมระบบไอที่และสารสนเทศ\n– คณะวิทยาศาสตร์ สาขาวิชาวิทยาการคอมพิวเตอร์\n– คณะเทคโนโลยีสารสนเทศ สาขาวิชาเทคโนโลยีสารสนเทศ\n– คณะบริหารธุรกิจ สาขาวิชาบริหารธุรกิจ\n– วิทยาลัยนวัตกรรมการผลิตขั้นสูง สาขาวิชาวิศวกรรมระบบการผลิต\n4. ได้เกรดเฉลี่ยทุกภาควิชา GPA ไม่ต่ำกว่า 2.50\n5. เป็นผู้ขาดแคลนคุณทรัพย์ด้านการศึกษา รายได้ครอบครัวไม่เกิน 360\,000 บาทต่อปี\n6. ผู้สมัคร ไม่รับทุนอื่นๆในปีการศึกษาเดียวกัน ยกเว้นกองทนให้กู้ยืมเพื่อการศึกษา\n7. มีความประพฤติและอุปนิสัยสภาพเรียบร้อยไม่สร้างปัญหาให้กันสังคม\n8. มีจิตอาสาช่วยเหลือสังคม\n9. ได้รับการคัดเลือกและรับรองจากคณะกรรมการของสถานศึกษา
URL:https://osda.kmitl.ac.th/event/%e0%b8%82%e0%b8%a2%e0%b8%b2%e0%b8%a2%e0%b9%80%e0%b8%a7%e0%b8%a5%e0%b8%b2-%e0%b9%80%e0%b8%9b%e0%b8%b4%e0%b8%94%e0%b8%a3%e0%b8%b1%e0%b8%9a%e0%b8%aa%e0%b8%a1%e0%b8%b1%e0%b8%84%e0%b8%a3%e0%b8%97%e0%b8%b8/
CATEGORIES:ทุนการศึกษา
ATTACH;FMTTYPE=image/jpeg:https://osda.kmitl.ac.th/wp-content/uploads/2024/10/ทุนรฮอนด้า-2024-scaled.jpg
END:VEVENT
END:VCALENDAR