BEGIN:VCALENDAR
VERSION:2.0
PRODID:-//สำนักงานกิจการนักศึกษาและศิษย์เก่าสัมพันธ์ - Office of Student Development and Alumni - (OSDA - KMITL) - ECPv6.15.12.2//NONSGML v1.0//EN
CALSCALE:GREGORIAN
METHOD:PUBLISH
X-WR-CALNAME:สำนักงานกิจการนักศึกษาและศิษย์เก่าสัมพันธ์ - Office of Student Development and Alumni - (OSDA - KMITL)
X-ORIGINAL-URL:https://osda.kmitl.ac.th
X-WR-CALDESC:Events for สำนักงานกิจการนักศึกษาและศิษย์เก่าสัมพันธ์ - Office of Student Development and Alumni - (OSDA - KMITL)
REFRESH-INTERVAL;VALUE=DURATION:PT1H
X-Robots-Tag:noindex
X-PUBLISHED-TTL:PT1H
BEGIN:VTIMEZONE
TZID:Asia/Krasnoyarsk
BEGIN:STANDARD
TZOFFSETFROM:+0700
TZOFFSETTO:+0700
TZNAME:+07
DTSTART:20230101T000000
END:STANDARD
END:VTIMEZONE
BEGIN:VEVENT
DTSTART;VALUE=DATE:20241026
DTEND;VALUE=DATE:20241027
DTSTAMP:20260420T074204
CREATED:20241026T104216Z
LAST-MODIFIED:20241026T104420Z
UID:3319-1729900800-1729987199@osda.kmitl.ac.th
SUMMARY:ขอเชิญเข้าร่วม แข่งขันสร้างกลยุทธ์การลงทุนด้วยอัลกอริทึม "KGI Algo Trading Bootcamp & Competiton 2024
DESCRIPTION:บริษัทหลักทรัพย์ เคจีไอ (ประเทศไทย) จำกัด (มหาชน) ร่วมกับ สถาบันเทคโนโลยีพระจอมเกล้าเจ้าคุณทหารลาดกระบัง จัดโครงการแข่งขันสร้างกลยุทธ์การลงทุนด้วยอัลกอริทึม “KGI Algo Trading Bootcamp & Competiton 2024” พร้อมชิงทุนการศึกษา KGI Scholarship มูลค่ารวมสูงสุด 200\,000 บาท*\n.\n📌 สมัครเข้าร่วมโครงการได้แล้ววันนี้\n.\n▶️ ดูรายละเอียดโครงการเพิ่มเติมได้ที่ https://www.kgieworld.co.th/ApiUniversity/algo-trading\n.\nหมายเหตุ\nนักศึกษาสถาบันเทคโนโลยีพระจอมเกล้าเจ้าคุณทหารลาดกระบัง เท่านั้น \nkgi-algro-trading-bootcamp-KMIT-A3
URL:https://osda.kmitl.ac.th/event/%e0%b8%82%e0%b8%ad%e0%b9%80%e0%b8%8a%e0%b8%b4%e0%b8%8d%e0%b9%80%e0%b8%82%e0%b9%89%e0%b8%b2%e0%b8%a3%e0%b9%88%e0%b8%a7%e0%b8%a1-%e0%b9%81%e0%b8%82%e0%b9%88%e0%b8%87%e0%b8%82%e0%b8%b1%e0%b8%99%e0%b8%aa/
ATTACH;FMTTYPE=image/jpeg:https://osda.kmitl.ac.th/wp-content/uploads/2024/10/kgi-algro-trading-bootcamp-960x640-1.jpg
END:VEVENT
END:VCALENDAR