BEGIN:VCALENDAR
VERSION:2.0
PRODID:-//สำนักงานกิจการนักศึกษาและศิษย์เก่าสัมพันธ์ - Office of Student Development and Alumni - (OSDA - KMITL) - ECPv6.15.12.2//NONSGML v1.0//EN
CALSCALE:GREGORIAN
METHOD:PUBLISH
X-WR-CALNAME:สำนักงานกิจการนักศึกษาและศิษย์เก่าสัมพันธ์ - Office of Student Development and Alumni - (OSDA - KMITL)
X-ORIGINAL-URL:https://osda.kmitl.ac.th
X-WR-CALDESC:Events for สำนักงานกิจการนักศึกษาและศิษย์เก่าสัมพันธ์ - Office of Student Development and Alumni - (OSDA - KMITL)
REFRESH-INTERVAL;VALUE=DURATION:PT1H
X-Robots-Tag:noindex
X-PUBLISHED-TTL:PT1H
BEGIN:VTIMEZONE
TZID:Asia/Krasnoyarsk
BEGIN:STANDARD
TZOFFSETFROM:+0700
TZOFFSETTO:+0700
TZNAME:+07
DTSTART:20240101T000000
END:STANDARD
END:VTIMEZONE
BEGIN:VEVENT
DTSTART;TZID=Asia/Krasnoyarsk:20251211T080000
DTEND;TZID=Asia/Krasnoyarsk:20251211T170000
DTSTAMP:20260420T223506
CREATED:20251211T043838Z
LAST-MODIFIED:20251211T043838Z
UID:4603-1765440000-1765472400@osda.kmitl.ac.th
SUMMARY:ประกาศสำนักงานกิจการนักศึกษาและศิษย์เก่าสัมพัมพันธ์
DESCRIPTION:ประกาศสำนักงานกิจการนักศึกษาและศิษย์เก่าสัมพัมพันธ์\nเรื่อง แนวทางการจัดกิจกรรมของนักศึกษาในช่วงถวายความอาลัยสมเด็จพระนางเจ้าสิริกิติ์พระบรมราชินีนาถ พระบรมราชชนนีพันปีหลวง \nประกาศสำนักงานกิจการนศ เรื่อง แนวทางการจั
URL:https://osda.kmitl.ac.th/event/%e0%b8%9b%e0%b8%a3%e0%b8%b0%e0%b8%81%e0%b8%b2%e0%b8%a8%e0%b8%aa%e0%b8%b3%e0%b8%99%e0%b8%b1%e0%b8%81%e0%b8%87%e0%b8%b2%e0%b8%99%e0%b8%81%e0%b8%b4%e0%b8%88%e0%b8%81%e0%b8%b2%e0%b8%a3%e0%b8%99%e0%b8%b1/
END:VEVENT
BEGIN:VEVENT
DTSTART;TZID=Asia/Krasnoyarsk:20260304T080000
DTEND;TZID=Asia/Krasnoyarsk:20260304T170000
DTSTAMP:20260420T223506
CREATED:20260304T021251Z
LAST-MODIFIED:20260304T021251Z
UID:4718-1772611200-1772643600@osda.kmitl.ac.th
SUMMARY:เรื่อง “  ขอเชิญยื่นซองเสนอราคาประกันอุบัติเหตุนักศึกษา ประจำปีการศึกษา 2569  ”
DESCRIPTION:เรื่อง “ ขอเชิญยื่นซองเสนอราคาประกันอุบัติเหตุนักศึกษา ประจำปีการศึกษา 2569 ” \n*สอบถามข้อมูลเพิ่มเติม ได้ที่ คุณวรรนิภา สุขพันธ์ สำนักงานกิจการนักศึกษาและศิษย์เก่าสัมพันธ์\nโทรศัพท์สำนักงาน 02329800 ต่อ 3243 เวลา 08.30-16.30 น .เว้นวันหยุดราชการ\nหรือ e-mail: wannipha.su@kmitl.ac.th\nรายละเอียดเพิ่มเติม ตามเอกสารแนบ\nประกาศเชิญเสนอราคาประกันภัยนักศึกษา 2569
URL:https://osda.kmitl.ac.th/event/%e0%b9%80%e0%b8%a3%e0%b8%b7%e0%b9%88%e0%b8%ad%e0%b8%87-%e0%b8%82%e0%b8%ad%e0%b9%80%e0%b8%8a%e0%b8%b4%e0%b8%8d%e0%b8%a2%e0%b8%b7%e0%b9%88%e0%b8%99%e0%b8%8b%e0%b8%ad%e0%b8%87%e0%b9%80/
END:VEVENT
END:VCALENDAR