BEGIN:VCALENDAR
VERSION:2.0
PRODID:-//สำนักงานกิจการนักศึกษาและศิษย์เก่าสัมพันธ์ - Office of Student Development and Alumni - (OSDA - KMITL) - ECPv6.15.12.2//NONSGML v1.0//EN
CALSCALE:GREGORIAN
METHOD:PUBLISH
X-WR-CALNAME:สำนักงานกิจการนักศึกษาและศิษย์เก่าสัมพันธ์ - Office of Student Development and Alumni - (OSDA - KMITL)
X-ORIGINAL-URL:https://osda.kmitl.ac.th
X-WR-CALDESC:Events for สำนักงานกิจการนักศึกษาและศิษย์เก่าสัมพันธ์ - Office of Student Development and Alumni - (OSDA - KMITL)
REFRESH-INTERVAL;VALUE=DURATION:PT1H
X-Robots-Tag:noindex
X-PUBLISHED-TTL:PT1H
BEGIN:VTIMEZONE
TZID:Asia/Krasnoyarsk
BEGIN:STANDARD
TZOFFSETFROM:+0700
TZOFFSETTO:+0700
TZNAME:+07
DTSTART:20230101T000000
END:STANDARD
END:VTIMEZONE
BEGIN:VEVENT
DTSTART;TZID=Asia/Krasnoyarsk:20240628T070000
DTEND;TZID=Asia/Krasnoyarsk:20240628T220000
DTSTAMP:20260420T210526
CREATED:20240620T030535Z
LAST-MODIFIED:20240621T023730Z
UID:2847-1719558000-1719612000@osda.kmitl.ac.th
SUMMARY:2024 First Step by SOR KMITL
DESCRIPTION:ปู๊นปู๊น! กำหนดการงาน KMITL First Step 2024 🧡✨ \nเตรียมตัวให้พร้อมกับงาน KMITL First Step 2024\nในวันศุกร์ที่ 28 มิถุนายน 2567\n📝 เปิดลงทะเบียน 06.30 น.\n🔓 Unlock ตั้งแต่ 07.00 – 22.00 น. \nน้อง ๆ จะได้พบกับ…\n🪄 กิจกรรมรับน้องรถไฟ ณ สถานีรถไฟหัวลำโพง\n🪄 ปฐมนิเทศนักศึกษาใหม่ ปีการศึกษา 2567\n🪄 พิธีมอบเข็มและเนกไทพระมหามงกุฎ ณ หอประชุมเจ้าพระยาสุรวงษ์ไวยวัฒน์ (วร บุนนาค) \n🎸 พร้อมปิดท้ายด้วย Concert จาก genie records มา “Unlock Your Magic” ไปกับพวกเรา \n#ปฐมนิเทศ #รับน้องรถไฟ #KMITLFirstStep #KMITL #สจล #DigitalLife #SmartCampus #พระจอมเกล้าลาดกระบัง \nสอบถามรายละเอียดเพิ่มเติมได้ที่ องค์การนักศึกษา สจล. https://www.facebook.com/sorkmitl
URL:https://osda.kmitl.ac.th/event/2024firststep/
ATTACH;FMTTYPE=image/png:https://osda.kmitl.ac.th/wp-content/uploads/2024/06/2024FirstStep.png
END:VEVENT
BEGIN:VEVENT
DTSTART;TZID=Asia/Krasnoyarsk:20240624T163000
DTEND;TZID=Asia/Krasnoyarsk:20240628T173000
DTSTAMP:20260420T210526
CREATED:20240619T022643Z
LAST-MODIFIED:20240619T032145Z
UID:2833-1719246600-1719595800@osda.kmitl.ac.th
SUMMARY:กิจกรรมพบปะเพื่อนใหม่ ชีวิตดี๊ดี... ที่ชุมพร
DESCRIPTION:รายละเอียดเพิ่มเติมที่ รายละเอียดกิจกรรม\nหรือ สอบถามเพิ่มเติมได้ที่ https://fb.me/ScKmitlPcc
URL:https://osda.kmitl.ac.th/event/2024pccfreshy/
ATTACH;FMTTYPE=image/jpeg:https://osda.kmitl.ac.th/wp-content/uploads/2024/06/2024-Freshy.jpg
END:VEVENT
BEGIN:VEVENT
DTSTART;VALUE=DATE:20240523
DTEND;VALUE=DATE:20240610
DTSTAMP:20260420T210526
CREATED:20240523T035353Z
LAST-MODIFIED:20240523T035452Z
UID:2014-1716422400-1717977599@osda.kmitl.ac.th
SUMMARY:กีฬาบุคลากรมหาวิทยาลัยแห่งประเทศไทย ครั้งที่ 40 อ่างแก้วเกมส์
DESCRIPTION:ร่วมส่งกำลังใจให้ตัวแทนนักกีฬาบุคลากร สจล.\nในการแข่งขันกีฬาบุคลากร\nANG KAEW GAME 2024 “อ่างแก้วเกมส์ 2024”\n31 พฤษภาคม – 9 มิถุนายน 2567\nให้กับตัวแทนนักกีฬาบุคลากร พระจอมเกล้าลาดกระบังฯ \nโปรแกรมการแข่งขันกีฬาบุคลากรมหาวิทยาลัยแห่งประเทศไทย ครั้งที่ 40\nรายละเอียดเพิ่มเติมที่.. https://cmu.to/YkboG\n.\n#อ่างแก้วเกมส์2024\n#KMITL
URL:https://osda.kmitl.ac.th/event/angkeawgames40/
ATTACH;FMTTYPE=image/png:https://osda.kmitl.ac.th/wp-content/uploads/2024/05/อ่างแก้วเกมส์-169-2.png
END:VEVENT
END:VCALENDAR