BEGIN:VCALENDAR
VERSION:2.0
PRODID:-//สำนักงานกิจการนักศึกษาและศิษย์เก่าสัมพันธ์ - Office of Student Development and Alumni - (OSDA - KMITL) - ECPv6.15.12.2//NONSGML v1.0//EN
CALSCALE:GREGORIAN
METHOD:PUBLISH
X-ORIGINAL-URL:https://osda.kmitl.ac.th
X-WR-CALDESC:Events for สำนักงานกิจการนักศึกษาและศิษย์เก่าสัมพันธ์ - Office of Student Development and Alumni - (OSDA - KMITL)
REFRESH-INTERVAL;VALUE=DURATION:PT1H
X-Robots-Tag:noindex
X-PUBLISHED-TTL:PT1H
BEGIN:VTIMEZONE
TZID:Asia/Krasnoyarsk
BEGIN:STANDARD
TZOFFSETFROM:+0700
TZOFFSETTO:+0700
TZNAME:+07
DTSTART:20240101T000000
END:STANDARD
END:VTIMEZONE
BEGIN:VEVENT
DTSTART;VALUE=DATE:20250107
DTEND;VALUE=DATE:20250119
DTSTAMP:20260420T055840
CREATED:20250107T045018Z
LAST-MODIFIED:20250107T045143Z
UID:3594-1736208000-1737244799@osda.kmitl.ac.th
SUMMARY:การแข่งขันกีฬามหาวิทยาลัย ครั้งที่ 49 ธรรมศาสตร์เกมส์
DESCRIPTION:ติดตามเพิ่มเติมที่ facebook : KMITL Student Life
URL:https://osda.kmitl.ac.th/event/%e0%b8%81%e0%b8%b2%e0%b8%a3%e0%b9%81%e0%b8%82%e0%b9%88%e0%b8%87%e0%b8%82%e0%b8%b1%e0%b8%99%e0%b8%81%e0%b8%b5%e0%b8%ac%e0%b8%b2%e0%b8%a1%e0%b8%ab%e0%b8%b2%e0%b8%a7%e0%b8%b4%e0%b8%97%e0%b8%a2%e0%b8%b2/
ATTACH;FMTTYPE=image/jpeg:https://osda.kmitl.ac.th/wp-content/uploads/2025/01/ป้าย2.4-สำเนา-11-scaled.jpg
END:VEVENT
END:VCALENDAR